BEGIN:VCALENDAR
VERSION:2.0
PRODID:-//Tukios.com/
BEGIN:VEVENT
UID:70b1a094-a644-4c83-9ccb-99f8e51e83e2@www.cavillfuneralhome.com
DTSTAMP:20260424T012100Z
DTSTART:20260524T170000Z
DTEND:20260524T200000Z
SUMMARY:Celebration of Life
DESCRIPTION:
URL:https://www.cavillfuneralhome.com/obituaries/don-potter
LOCATION:Lion's Gate Banquet Centre 386 Blake St  Barrie ON L4M 1L3
GEO:44.3991733;-79.6528806
END:VEVENT
END:VCALENDAR